BEGIN:VCALENDAR
VERSION:2.0
PRODID:-//Ciclismo Argentino Facpyr - ECPv6.15.11//NONSGML v1.0//EN
CALSCALE:GREGORIAN
METHOD:PUBLISH
X-WR-CALNAME:Ciclismo Argentino Facpyr
X-ORIGINAL-URL:https://ciclismoarg.com.ar
X-WR-CALDESC:Eventos para Ciclismo Argentino Facpyr
REFRESH-INTERVAL;VALUE=DURATION:PT1H
X-Robots-Tag:noindex
X-PUBLISHED-TTL:PT1H
BEGIN:VTIMEZONE
TZID:UTC
BEGIN:STANDARD
TZOFFSETFROM:+0000
TZOFFSETTO:+0000
TZNAME:UTC
DTSTART:20250101T000000
END:STANDARD
END:VTIMEZONE
BEGIN:VEVENT
DTSTART;VALUE=DATE:20260416
DTEND;VALUE=DATE:20260420
DTSTAMP:20260419T161057
CREATED:20251030T182532Z
LAST-MODIFIED:20260330T140544Z
UID:5152-1776297600-1776643199@ciclismoarg.com.ar
SUMMARY:Campeonato Argentino de Ruta Elite y Sub 23
DESCRIPTION:
URL:https://ciclismoarg.com.ar/event/campeonato-argentino-de-ruta-elite-y-sub-23/
LOCATION:Río Cuarto\, Córdoba\, Argentina
END:VEVENT
END:VCALENDAR